BEGIN:VCALENDAR
VERSION:2.0
PRODID:-//KSSS//Gotland Runt//SV
CALSCALE:GREGORIAN
METHOD:PUBLISH
BEGIN:VEVENT
UID:information-meeting-2-gotland-runt-2026@gotlandrunt.se
DTSTAMP:20260420T000000Z
DTSTART:20260423T170000Z
DTEND:20260423T174500Z
SUMMARY:Information meeting #2 Gotland Runt Offshore Race 2026
LOCATION:Microsoft Teams-möte
DESCRIPTION:Join the information meeting online: https://teams.microsoft.
 com/l/meetup-join/19%3ameeting_NGRlNDcwMTAtY2IyYy00Yjg1LTgxYjItNTRlYTYyYT
 I0MGMw%40thread.v2/0?context=%7b%22Tid%22%3a%22cb18b2ee-8126-47a3-b0dd-78
 21fca67bd7%22%2c%22Oid%22%3a%22faeab6ab-c722-492a-8117-221b2fb94be1%22%7d
URL:https://teams.microsoft.com/l/meetup-join/19%3ameeting_NGRlNDcwMTAtY2
 IyYy00Yjg1LTgxYjItNTRlYTYyYTI0MGMw%40thread.v2/0?context=%7b%22Tid%22%3a%
 22cb18b2ee-8126-47a3-b0dd-7821fca67bd7%22%2c%22Oid%22%3a%22faeab6ab-c722-
 492a-8117-221b2fb94be1%22%7d
END:VEVENT
END:VCALENDAR